
BEGIN:VCALENDAR
VERSION:2.0
PRODID:-//MAGNO-PROJECT - ECPv6.15.15//NONSGML v1.0//EN
CALSCALE:GREGORIAN
METHOD:PUBLISH
X-WR-CALNAME:MAGNO-PROJECT
X-ORIGINAL-URL:https://magno-project.eu
X-WR-CALDESC:Events for MAGNO-PROJECT
REFRESH-INTERVAL;VALUE=DURATION:PT1H
X-Robots-Tag:noindex
X-PUBLISHED-TTL:PT1H
BEGIN:VTIMEZONE
TZID:Europe/Madrid
BEGIN:DAYLIGHT
TZOFFSETFROM:+0100
TZOFFSETTO:+0200
TZNAME:CEST
DTSTART:20240331T010000
END:DAYLIGHT
BEGIN:STANDARD
TZOFFSETFROM:+0200
TZOFFSETTO:+0100
TZNAME:CET
DTSTART:20241027T010000
END:STANDARD
BEGIN:DAYLIGHT
TZOFFSETFROM:+0100
TZOFFSETTO:+0200
TZNAME:CEST
DTSTART:20250330T010000
END:DAYLIGHT
BEGIN:STANDARD
TZOFFSETFROM:+0200
TZOFFSETTO:+0100
TZNAME:CET
DTSTART:20251026T010000
END:STANDARD
BEGIN:DAYLIGHT
TZOFFSETFROM:+0100
TZOFFSETTO:+0200
TZNAME:CEST
DTSTART:20260329T010000
END:DAYLIGHT
BEGIN:STANDARD
TZOFFSETFROM:+0200
TZOFFSETTO:+0100
TZNAME:CET
DTSTART:20261025T010000
END:STANDARD
END:VTIMEZONE
BEGIN:VEVENT
DTSTART;TZID=Europe/Madrid:20250730T110000
DTEND;TZID=Europe/Madrid:20250730T120000
DTSTAMP:20260424T134201
CREATED:20250605T101931Z
LAST-MODIFIED:20250625T112810Z
UID:52098-1753873200-1753876800@magno-project.eu
SUMMARY:MAGNO EU: First Online Workshop on Laying the Groundwork for Sustainable Food Packaging
DESCRIPTION:On July 30th\, the MAGNO Project will host its first online workshop\, led by project partner Holoss\, and dedicated to advancing circular practices in the food packaging sector. Following the successful presential session held on May 27th\, this online event will bring together a diverse group of stakeholders to reflect on lessons learned\, present ongoing work\, and promote sustainable and collaborative solutions across the packaging value chain. \nA Community-Based Circular Economy in Action\nThis workshop will feature contributions from six key entities in the region of Monção that bring unique insights and responsibilities to the table: \n\nSenior University of Monção\nBaú da Zuza\nCâmara Municipal de Monção\nValorminho\nSirplaste\nONG ZERO\n\nTogether\, these entities will represent different stages of the circular economy\, illustrating how materials and resources can be repurposed\, regenerated\, and reintegrated into the system rather than discarded. Their combined efforts show that circularity is not only achievable — it’s already underway at the local level. \nWhat to Expect\nThe online session will revisit and expand on the insights from the May 27th presential workshop\, focusing on exploring the findings and results from the presential workshop (held on May 27th)\, analyze product lifecycles\, and discover how circular economy models can transform packaging practices. \nDon’t miss it and REGISTER HERE.
URL:https://magno-project.eu/event/magno-eu-first-online-workshop-on-laying-the-groundwork-for-sustainable-food-packaging/
CATEGORIES:Magno events
END:VEVENT
END:VCALENDAR