
BEGIN:VCALENDAR
VERSION:2.0
PRODID:-//MAGNO-PROJECT - ECPv6.15.15//NONSGML v1.0//EN
CALSCALE:GREGORIAN
METHOD:PUBLISH
X-WR-CALNAME:MAGNO-PROJECT
X-ORIGINAL-URL:https://magno-project.eu
X-WR-CALDESC:Events for MAGNO-PROJECT
REFRESH-INTERVAL;VALUE=DURATION:PT1H
X-Robots-Tag:noindex
X-PUBLISHED-TTL:PT1H
BEGIN:VTIMEZONE
TZID:Europe/Madrid
BEGIN:DAYLIGHT
TZOFFSETFROM:+0100
TZOFFSETTO:+0200
TZNAME:CEST
DTSTART:20240331T010000
END:DAYLIGHT
BEGIN:STANDARD
TZOFFSETFROM:+0200
TZOFFSETTO:+0100
TZNAME:CET
DTSTART:20241027T010000
END:STANDARD
BEGIN:DAYLIGHT
TZOFFSETFROM:+0100
TZOFFSETTO:+0200
TZNAME:CEST
DTSTART:20250330T010000
END:DAYLIGHT
BEGIN:STANDARD
TZOFFSETFROM:+0200
TZOFFSETTO:+0100
TZNAME:CET
DTSTART:20251026T010000
END:STANDARD
BEGIN:DAYLIGHT
TZOFFSETFROM:+0100
TZOFFSETTO:+0200
TZNAME:CEST
DTSTART:20260329T010000
END:DAYLIGHT
BEGIN:STANDARD
TZOFFSETFROM:+0200
TZOFFSETTO:+0100
TZNAME:CET
DTSTART:20261025T010000
END:STANDARD
END:VTIMEZONE
BEGIN:VEVENT
DTSTART;TZID=Europe/Madrid:20251029T093000
DTEND;TZID=Europe/Madrid:20251029T180000
DTSTAMP:20260424T074359
CREATED:20250829T093707Z
LAST-MODIFIED:20250829T093707Z
UID:52204-1761730200-1761760800@magno-project.eu
SUMMARY:VITAL WORKSHOP: Learning Factory on Bio-based Thermoplastics
DESCRIPTION:Date: Wednesday\, 29 October 2025Time: 9:30 am – 6:00 pmLocation: Morning online & in-person | Afternoon in-person at PIEP\, Guimarães \nRegistration is now open for the upcoming VITAL Learning Factory on Bio-based Thermoplastics Processing and Material Reprocessing. \nThis training will share the knowledge and insights developed by the VITAL consortium over three years of research\, offering participants both conceptual and practical skills to apply in sustainable manufacturing. \nWhat to expect\n\nMorning (online & in-person): classroom learning on biobased thermoplastics and foaming\, fundamentals of Foam Injection Moulding (FIM)\, biomaterial recycling strategies\, digital control strategies for FIM (developed by Idener)\, and industrial applications.\nAfternoon (in-person only): a hands-on practical demonstration at PIEP\, Guimarães.\n\n\n🔗 Register now to secure your spot. More details will follow in the coming weeks.
URL:https://magno-project.eu/event/vital-workshop-learning-factory-on-bio-based-thermoplastics/
CATEGORIES:European
END:VEVENT
END:VCALENDAR