
BEGIN:VCALENDAR
VERSION:2.0
PRODID:-//MAGNO-PROJECT - ECPv6.15.15//NONSGML v1.0//EN
CALSCALE:GREGORIAN
METHOD:PUBLISH
X-WR-CALNAME:MAGNO-PROJECT
X-ORIGINAL-URL:https://magno-project.eu
X-WR-CALDESC:Events for MAGNO-PROJECT
REFRESH-INTERVAL;VALUE=DURATION:PT1H
X-Robots-Tag:noindex
X-PUBLISHED-TTL:PT1H
BEGIN:VTIMEZONE
TZID:Europe/Madrid
BEGIN:DAYLIGHT
TZOFFSETFROM:+0100
TZOFFSETTO:+0200
TZNAME:CEST
DTSTART:20240331T010000
END:DAYLIGHT
BEGIN:STANDARD
TZOFFSETFROM:+0200
TZOFFSETTO:+0100
TZNAME:CET
DTSTART:20241027T010000
END:STANDARD
BEGIN:DAYLIGHT
TZOFFSETFROM:+0100
TZOFFSETTO:+0200
TZNAME:CEST
DTSTART:20250330T010000
END:DAYLIGHT
BEGIN:STANDARD
TZOFFSETFROM:+0200
TZOFFSETTO:+0100
TZNAME:CET
DTSTART:20251026T010000
END:STANDARD
BEGIN:DAYLIGHT
TZOFFSETFROM:+0100
TZOFFSETTO:+0200
TZNAME:CEST
DTSTART:20260329T010000
END:DAYLIGHT
BEGIN:STANDARD
TZOFFSETFROM:+0200
TZOFFSETTO:+0100
TZNAME:CET
DTSTART:20261025T010000
END:STANDARD
END:VTIMEZONE
BEGIN:VEVENT
DTSTART;TZID=Europe/Madrid:20251209T080000
DTEND;TZID=Europe/Madrid:20251211T170000
DTSTAMP:20260424T045337
CREATED:20251202T200006Z
LAST-MODIFIED:20251202T200006Z
UID:52380-1765267200-1765472400@magno-project.eu
SUMMARY:MAGNO at MEDLIFE 2025
DESCRIPTION:Next week\, MAGNO will be represented at one of the most relevant scientific gatherings in the Mediterranean region. Our partner Mohamed Banni will participate in the International MEDLIFE Meeting 2025\, held in Naples\, Italy\, where he will present a keynote lecture and two scientific communications in special sessions dedicated to soil and marine waters. \nIn addition\, Mohamed will also open the SULIEIA Winter School with a 50 minute lecture\, bringing MAGNO’s perspective into a space designed for young researchers and students working on environmental challenges. \n\nAbout the MEDLIFE Meeting\nThe Mediterranean Life Sciences Union (MedLIFE) aims to unite the life sciences community across the Mediterranean and beyond. Its mission is to foster collaboration\, transdisciplinary research and stronger links between scientists\, practitioners and policy makers. \nMedLIFE seeks to:\n• support international cooperation in the Mediterranean region• integrate scientific and experiential knowledge to accelerate sustainability transitions• strengthen the influence of life sciences in policy making• offer a global platform for joint research and training \nMEDLIFE 2025 is expected to gather hundreds of participants in a hybrid format\, covering a wide spectrum of life science topics. The proceedings will be published in a Springer book series (indexed in Scopus)\, along with special issues in scientific journals. \nThroughout all sessions where Mohamed participates\, MAGNO will be presented and introduced\, reinforcing the project’s presence and fostering connections with the Mediterranean scientific community. \n\nSULIEIA Winter Schools\nRunning in parallel with the conference\, the SULIEIA Winter Schools at the University of Naples Federico II offer a five day training programme for international students from project partner universities. \nWinter School 1: Resilient Environments – Remediation Strategies for a Sustainable Planet \nOrganised by the Interdepartmental Center for Environmental Research (C.I.R.A.M.)\, this school focuses on:• assessment\, management and remediation of contaminated soil\, water and air• site characterisation\, risk assessment and policy frameworks• real case studies and a study site visit \nDate: 9–13 December 2025Venue: Centro Congressi Federico IIParticipants: 40 students (European and non European partner universities) \nWinter School 2: Environmental Management \nOrganised by the Departments of Biology and Pharmacy\, this school explores:• innovative and sustainable management systems• challenges related to natural\, agricultural and anthropic ecosystems• emerging toxins and contaminants• responsible uses of aquatic and terrestrial resources \nDate: 9–13 December 2025Participants: 30 students (15 Italian + 15 international) \nBoth programmes aim to strengthen knowledge\, encourage multidisciplinary thinking and prepare the next generation of environmental scientists. \nMAGNO’s Presence\nMohamed’s participation ensures that MAGNO’s work\, values and environmental insights reach a wider network of Mediterranean researchers and emerging experts. His keynote and scientific communications will help highlight the project’s relevance in tackling interconnected environmental challenges. \nWe look forward to sharing updates from Naples and celebrating this opportunity for visibility\, collaboration and scientific dialogue.
URL:https://magno-project.eu/event/magno-at-medlife-2025/
CATEGORIES:European
ATTACH;FMTTYPE=image/png:https://magno-project.eu/wp-content/uploads/2025/12/Captura-de-pantalla-2025-12-02-205903.png
END:VEVENT
BEGIN:VEVENT
DTSTART;TZID=Europe/Madrid:20251209T130000
DTEND;TZID=Europe/Madrid:20251209T140000
DTSTAMP:20260424T045337
CREATED:20251114T120934Z
LAST-MODIFIED:20251114T120934Z
UID:52338-1765285200-1765288800@magno-project.eu
SUMMARY:Quo vadis Packaging? A workshop on design trends for food packaging
DESCRIPTION:Quo vadis Packaging? A workshop on design trends for food packaging \nWhat is it about? Plastics-based food packaging is subject to strong pressures to change due to consumer expectations and regulatory demands. Sustainability is of special importance in this regard. Possible ways in the future can be referred to as design trends. Within the Horizon Europe project MAGNO\, we have collected information on packaging design trends. In this workshop\, we want to discuss the future of plastics packaging with you. \nWhat are the contents of the workshop? We have considered various factors of (technical) packaging design and applied a SWOT analysis. In this workshop\, we will present our findings to you. On the other hand\, we would like to work out with you\, how we can imagine and shape the near future of food packaging design. We consider current market trends as well as developments from the world of research. The design trends discussed: \n• Mono-materials\n• Minimalist design / minimalist material use\n• Use of recycled material\n• Biomimicry and bio-based materials\n• Utilization of waste-streams as a material source\n• Biodegradable materials\n• Edible materials\n• Reusable packaging\n• Smart packaging \nWho are we? The workshop will be conducted by the Fraunhofer Institute for Process Engineering andPackaging IVV. Within MAGNO\, Fraunhofer IVV is responsible for packaging design trends.\nWhen and where? On the 9th of December\, 1 PM to 4 PM (CET)\, online.\nWhere can I register? https://forms.office.com/e/ZmRPrgJ2ey \nWhat is MAGNO? MAGNO – „Transforming EU food systems with innovative strategies for sustainable packaging“ – is a Horizon Europe project with the goal to develop strategies for sustainable food packaging and to develop tool to assess those strategies. In this context\, we collected information to various aspects around the sustainability of plastics-based food packaging. You can find more information at www.magno-project.eu \nSupporting materials.  \nBe it professionally or privately – we get in touch with packaging all the time. Especially plastics packaging is subject to pressure to change. This leads to some interesting trends in packaging design. With in the @MAGNO project\, we are interested in your assessment (whether you are a professional or a layperson): https://forms.office.com/Pages/ResponsePage.aspx?id=DDAw-X3JGUC-A63WUKFxxIwlk4A-Y5FEoE2oaadpN4dUQjVWRTBaMUpCQVpESjczQ1RJMDJSNEVLVi4u \nCoordinator: \n \n \nPhil Rosenow is a chemist by training\, with a doctorate in computational chemistry from Marburg University in 2016. He was a postdoctoral  research associate at  the University of Arizona’s College of Optical Sciences from 2017 to 2019. Since 2020\, he works as a  research associate at the Fraunhofer Institute for Process Engineering and Packaging IVV\, where he is involved in supporting packaging design through digital methods\, predominantly shelf life modelling. \n 
URL:https://magno-project.eu/event/quo-vadis-packaging-a-workshop-on-design-trends-for-food-packaging/
CATEGORIES:European,Magno events
ATTACH;FMTTYPE=image/png:https://magno-project.eu/wp-content/uploads/2025/08/otto-2025-08-05T113046.872.png
END:VEVENT
BEGIN:VEVENT
DTSTART;TZID=Europe/Madrid:20251209T153000
DTEND;TZID=Europe/Madrid:20251209T163000
DTSTAMP:20260424T045337
CREATED:20251110T141005Z
LAST-MODIFIED:20260129T085125Z
UID:52324-1765294200-1765297800@magno-project.eu
SUMMARY:Online Session: MAGNO EU Second Workshop on Future Trends in Food Packaging Technology: Transition to innovative circular strategies.
DESCRIPTION:Event registration link: https://events.teams.microsoft.com/event/02928383-9412-4092-9a4c-6da9f6fead47@b100caa0-ee9e-4a90-a1b6-098b7957cdb3 09/12/2025 15:30 to 16:30 (CET)  Details: HOLOSS\, in collaboration with The Navigator Company and the Polytechnic Institute of Bragança\, is pleased to host an online workshop exploring emerging trends in food packaging technology. This event is part of the second MAGNO EU workshop\, which aims to accelerate the transition toward innovative circular economy strategies. Participants will gain firsthand insights into sustainable and smart packaging solutions\, with contributions from industry experts and pioneering projects. The session will feature live demonstrations\, interactive discussions\, and real-world case studies that highlight how the packaging sector is evolving to reduce environmental impact and embrace circularity. Panelists Leonardo Gomes is a Project Research Specialist at HOLOSS\, working on EU-funded sustainability projects. With a background in Chemical Engineering and Project Management\, he’s pursuing a PhD in Advanced Materials at the University of Porto. His focus includes Life Cycle Assessment and circular economy strategies across industries.                  Madeleine is a Business Development Specialist at HOLOSS\, with a Bachelor’s and Master’s in International Relations. She works on EU-funded projects in the chemical sector\, focusing on plastics and food packaging. Her role bridges stakeholder perspectives to foster inclusive\, sustainable innovation.   \n  \n  \n  \n  \n  \n  \n  \n  \nPost-event update\nOn 9 December 2025\, HOLOSS hosted the second MAGNO online workshop\, Future Trends in Food Packaging Technology\, as part of a four-workshop series designed to promote more sustainable consumer choices and support the transition towards circular food packaging systems. \nThe session brought together 94 registered participants\, mainly young adults aged 18–24\, from academic environments. This figure represents a proxy count\, as several classes joined the workshop using shared devices\, meaning the actual reach was likely significantly higher. \nThe workshop focused on emerging technologies and innovative alternatives to conventional plastic-based packaging\, showcasing sustainable and recyclable food-packaging materials through live demonstrations\, expert contributions and real-world case studies. Participants engaged actively in interactive discussions\, strengthening the link between research\, education and industry while increasing awareness of practical solutions to reduce environmental impact. \nOrganised in collaboration with The Navigator Company and the Polytechnic Institute of Bragança\, the event reinforced MAGNO’s commitment to engaging younger generations and academic communities in the development of future circular economy strategies. \nBelow\, we share a selection of images from the workshop. \n    \n 
URL:https://magno-project.eu/event/online-session-magno-eu-second-workshop-on-future-trends-in-food-packaging-technology-transition-to-innovative-circular-strategies/
CATEGORIES:European,Magno events
ATTACH;FMTTYPE=image/jpeg:https://magno-project.eu/wp-content/uploads/2025/11/MAGNO-WORKSHOP-DECEMBER-HOLOSS.jpg
END:VEVENT
END:VCALENDAR