
BEGIN:VCALENDAR
VERSION:2.0
PRODID:-//MAGNO-PROJECT - ECPv6.15.15//NONSGML v1.0//EN
CALSCALE:GREGORIAN
METHOD:PUBLISH
X-ORIGINAL-URL:https://magno-project.eu
X-WR-CALDESC:Events for MAGNO-PROJECT
REFRESH-INTERVAL;VALUE=DURATION:PT1H
X-Robots-Tag:noindex
X-PUBLISHED-TTL:PT1H
BEGIN:VTIMEZONE
TZID:Europe/Madrid
BEGIN:DAYLIGHT
TZOFFSETFROM:+0100
TZOFFSETTO:+0200
TZNAME:CEST
DTSTART:20240331T010000
END:DAYLIGHT
BEGIN:STANDARD
TZOFFSETFROM:+0200
TZOFFSETTO:+0100
TZNAME:CET
DTSTART:20241027T010000
END:STANDARD
BEGIN:DAYLIGHT
TZOFFSETFROM:+0100
TZOFFSETTO:+0200
TZNAME:CEST
DTSTART:20250330T010000
END:DAYLIGHT
BEGIN:STANDARD
TZOFFSETFROM:+0200
TZOFFSETTO:+0100
TZNAME:CET
DTSTART:20251026T010000
END:STANDARD
BEGIN:DAYLIGHT
TZOFFSETFROM:+0100
TZOFFSETTO:+0200
TZNAME:CEST
DTSTART:20260329T010000
END:DAYLIGHT
BEGIN:STANDARD
TZOFFSETFROM:+0200
TZOFFSETTO:+0100
TZNAME:CET
DTSTART:20261025T010000
END:STANDARD
END:VTIMEZONE
BEGIN:VEVENT
DTSTART;TZID=Europe/Madrid:20250520T090000
DTEND;TZID=Europe/Madrid:20250521T180000
DTSTAMP:20260424T145155
CREATED:20250505T085052Z
LAST-MODIFIED:20250505T085052Z
UID:52018-1747731600-1747850400@magno-project.eu
SUMMARY:Horizon Europe info days - Cluster 6 Food\, Bioeconomy\, Natural Resources\, Agriculture and Environment
DESCRIPTION:Horizon Europe Info Days – Cluster 6: Funding Opportunities for the Future of Food\, Bioeconomy and Environment\nThe Horizon Europe Cluster 6 Info Days will take place online on 20–21 May 2025\, offering a comprehensive overview of funding opportunities for research and innovation in the areas of food systems\, bioeconomy\, agriculture\, natural resources\, and the environment. \nAt MAGNO we believe this event is highly relevant for our community and for anyone working to build a more sustainable and circular future in Europe. These sessions are a valuable opportunity to better understand upcoming funding calls\, policy priorities\, and strategies for success in the Horizon Europe framework. \n\nWhat to Expect\nThe event will include: \n\nA plenary session on the strategic context of Cluster 6 within Horizon Europe.\nA “Key to Success” session with guidance for submitting strong project proposals.\nTopic-specific sessions aligned with the 2025 Work Programme\, including food systems\, biodiversity\, circular economy\, zero pollution\, climate action\, digital governance\, and more.\nA final session dedicated to COFUND partnerships.\n\nAll sessions are online\, in English\, and will be livestreamed directly on the official platform. Questions can be submitted in advance via Sli.do. \nYou can find the full programme here:👉 https://research-innovation-community.ec.europa.eu/events/6lLZRxTBKVsWnjEtjwhVyl/programme \n\nComplementary Events in Warsaw\nIn addition to the online Info Days\, the CARE4BIO project will host two in-person events in Warsaw: \n\n27 May 2025 | Brokerage Event – Networking and matchmaking for potential applicants.\n28 May 2025 | Interactive Training – Practical guidance for preparing proposals (limited spots).\n\n\nWhy It Matters\nAt MAGNO\, we see this as more than just an event — it’s a chance to stay aligned with the evolving priorities of European research and innovation. \nFor those of us working at the intersection of food systems\, packaging\, circular economy\, and environmental sustainability\, understanding the funding landscape is essential to driving impact. Even without direct participation\, events like these offer valuable context\, visibility into future trends\, and new collaborative possibilities. \nIf you’re interested in applying to Horizon Europe or aligning your work with EU priorities\, we encourage you to explore this event.
URL:https://magno-project.eu/event/horizon-europe-info-days-cluster-6-food-bioeconomy-natural-resources-agriculture-and-environment/
CATEGORIES:European
END:VEVENT
BEGIN:VEVENT
DTSTART;TZID=Europe/Madrid:20250528T100000
DTEND;TZID=Europe/Madrid:20250528T110000
DTSTAMP:20260424T145155
CREATED:20250509T080030Z
LAST-MODIFIED:20260129T094259Z
UID:52036-1748426400-1748430000@magno-project.eu
SUMMARY:IPACK-IMA 2025
DESCRIPTION:MAGNO at IPACK-IMA 2025: Innovation and Sustainability at the Heart of the Future of Food Packaging\nThe MAGNO project will be taking part in the upcoming edition of IPACK-IMA 2025\, one of the most important international trade fairs focused on processing and packaging technologies and materials for both the food and non-food sectors. The event will take place from 27 to 30 May 2025 at Fiera Milano\, and will serve as a key platform to anticipate industry trends and foster new business and research opportunities. \nIPACK-IMA offers a comprehensive and cross-sector overview of the packaging industry\, targeting the entire fast-moving consumer goods and durable goods ecosystem. It places particular focus on four key markets: grain-based products\, beverages\, pharmaceuticals\, and the fresh & convenience food sector. \nIn this context\, MAGNO will present its progress in digital innovation for sustainable food packaging\, in a session dedicated to exploring how new technologies can support the reduction of environmental impact in the packaging industry. The presentation will take place on 28 May\, from 10:00 to 11:00\, and will be delivered by our colleagues Jessica Genovese\, Luigi Operato\, Wael Hamd\, Phil Rosenow\, and Ignacio Fernández-Pacheco Ruiz\, who will share the consortium’s vision and the collaborative work being developed within the project. \n \nLearn more about the event and get the tickets here: https://www.ipackima.com/visitatori/biglietteria.html?utm_source=organic_post&utm_medium=social&utm_campaign=biglietteria&utm_id=biglietteria \nDon’t miss it!
URL:https://magno-project.eu/event/ipack-ima-2025/
CATEGORIES:European
END:VEVENT
END:VCALENDAR