
BEGIN:VCALENDAR
VERSION:2.0
PRODID:-//MAGNO-PROJECT - ECPv6.15.15//NONSGML v1.0//EN
CALSCALE:GREGORIAN
METHOD:PUBLISH
X-WR-CALNAME:MAGNO-PROJECT
X-ORIGINAL-URL:https://magno-project.eu
X-WR-CALDESC:Events for MAGNO-PROJECT
REFRESH-INTERVAL;VALUE=DURATION:PT1H
X-Robots-Tag:noindex
X-PUBLISHED-TTL:PT1H
BEGIN:VTIMEZONE
TZID:Europe/Madrid
BEGIN:DAYLIGHT
TZOFFSETFROM:+0100
TZOFFSETTO:+0200
TZNAME:CEST
DTSTART:20250330T010000
END:DAYLIGHT
BEGIN:STANDARD
TZOFFSETFROM:+0200
TZOFFSETTO:+0100
TZNAME:CET
DTSTART:20251026T010000
END:STANDARD
BEGIN:DAYLIGHT
TZOFFSETFROM:+0100
TZOFFSETTO:+0200
TZNAME:CEST
DTSTART:20260329T010000
END:DAYLIGHT
BEGIN:STANDARD
TZOFFSETFROM:+0200
TZOFFSETTO:+0100
TZNAME:CET
DTSTART:20261025T010000
END:STANDARD
BEGIN:DAYLIGHT
TZOFFSETFROM:+0100
TZOFFSETTO:+0200
TZNAME:CEST
DTSTART:20270328T010000
END:DAYLIGHT
BEGIN:STANDARD
TZOFFSETFROM:+0200
TZOFFSETTO:+0100
TZNAME:CET
DTSTART:20271031T010000
END:STANDARD
END:VTIMEZONE
BEGIN:VEVENT
DTSTART;TZID=Europe/Madrid:20260422T083000
DTEND;TZID=Europe/Madrid:20260423T193000
DTSTAMP:20260423T222924
CREATED:20260415T080358Z
LAST-MODIFIED:20260415T080434Z
UID:52641-1776846600-1776972600@magno-project.eu
SUMMARY:The ECESP Annual Conference 2026
DESCRIPTION:MAGNO at the ECESP Annual Conference 2026: Advancing a Competitive and Fair Circular Europe \n\n\n\nThe MAGNO project will be represented at the upcoming ECESP Annual Conference 2026\, one of the key European events shaping the future of the circular economy. \n\n\n\nThe conference\, titled “A competitive and fair circular Europe: The ambition at the heart of the single market”\, will bring together policymakers\, industry leaders\, researchers\, financial actors and civil society to discuss the next steps in Europe’s transition towards circularity. \n\n\n\nA key moment for EU circular economy policy\n\n\n\nThe event takes place at a crucial time\, as the European Union prepares the Circular Economy Act (CEA)\, expected to become a cornerstone of the EU’s circular economy framework. The Act aims to strengthen the Single Market for circular products and services while addressing fragmentation and scaling up sustainable solutions across Europe. \n\n\n\nDiscussions will also connect the CEA with broader initiatives such as the EU Bioeconomy Strategy\, as well as the financial\, regulatory and societal conditions needed to enable a truly circular and competitive economy. \n\n\n\nMAGNO’s participation\n\n\n\nMAGNO will be represented at the conference by Dr. Alejandra Pita Milleiro (IDENER)\, who will attend in representation of the project. \n\n\n\nHer participation will contribute to ongoing discussions around sustainable packaging\, circular value chains and the role of innovation and data-driven approaches in supporting systemic change. \n\n\n\n \n\n\n\nLink to the official website of the event: https://circulareconomy.europa.eu/platform/en/ecesp-annual-conference-2026-competitive-and-fair-circular-europe-ambition-heart-single-market
URL:https://magno-project.eu/event/the-ecesp-annual-conference-2026/
CATEGORIES:European
END:VEVENT
BEGIN:VEVENT
DTSTART;TZID=Europe/Madrid:20260423T080000
DTEND;TZID=Europe/Madrid:20260426T170000
DTSTAMP:20260423T222924
CREATED:20260226T100442Z
LAST-MODIFIED:20260226T100443Z
UID:52629-1776931200-1777222800@magno-project.eu
SUMMARY:SPECTROMED II – 2nd Mediterranean Congress on Mass Spectrometry and its Applications
DESCRIPTION:The 2nd Mediterranean Congress on Mass Spectrometry and its Applications (SPECTROMED II) will take place from 23 to 26 April 2026 in Sousse\, Tunisia. \n\n\n\nBuilding on the success of its first edition\, SPECTROMED II will bring together researchers\, professionals and stakeholders from across the Mediterranean region\, Europe and North Africa to exchange knowledge on the latest advances in mass spectrometry and advanced analytical technologies. \n\n\n\nThe programme will include plenary lectures\, thematic sessions and specialised workshops\, addressing applications in health\, environmental analysis\, materials science\, food security and related fields. The congress also aims to strengthen Euro-Mediterranean and South–South scientific cooperation. \n\n\n\nSPECTROMED II is jointly organised by the National Institute for Research and Physico-Chemical Analysis (INRAP) and the Sciences Horizons Association (ASHO). \n\n\n\nFor more information about the programme\, registration and participation\, please visit the official event website: https://asho-fst.org/spectromed/index.html
URL:https://magno-project.eu/event/spectromed-ii-2nd-mediterranean-congress-on-mass-spectrometry-and-its-applications/
CATEGORIES:External events + Local
END:VEVENT
END:VCALENDAR